BEGIN:VCALENDAR
VERSION:2.0
PRODID:-//SCMUA - ECPv6.15.20//NONSGML v1.0//EN
CALSCALE:GREGORIAN
METHOD:PUBLISH
X-ORIGINAL-URL:https://scmua.org
X-WR-CALDESC:Events for SCMUA
REFRESH-INTERVAL;VALUE=DURATION:PT1H
X-Robots-Tag:noindex
X-PUBLISHED-TTL:PT1H
BEGIN:VTIMEZONE
TZID:America/New_York
BEGIN:DAYLIGHT
TZOFFSETFROM:-0500
TZOFFSETTO:-0400
TZNAME:EDT
DTSTART:20250309T070000
END:DAYLIGHT
BEGIN:STANDARD
TZOFFSETFROM:-0400
TZOFFSETTO:-0500
TZNAME:EST
DTSTART:20251102T060000
END:STANDARD
BEGIN:DAYLIGHT
TZOFFSETFROM:-0500
TZOFFSETTO:-0400
TZNAME:EDT
DTSTART:20260308T070000
END:DAYLIGHT
BEGIN:STANDARD
TZOFFSETFROM:-0400
TZOFFSETTO:-0500
TZNAME:EST
DTSTART:20261101T060000
END:STANDARD
BEGIN:DAYLIGHT
TZOFFSETFROM:-0500
TZOFFSETTO:-0400
TZNAME:EDT
DTSTART:20270314T070000
END:DAYLIGHT
BEGIN:STANDARD
TZOFFSETFROM:-0400
TZOFFSETTO:-0500
TZNAME:EST
DTSTART:20271107T060000
END:STANDARD
END:VTIMEZONE
BEGIN:VEVENT
DTSTART;TZID=America/New_York:20260603T150000
DTEND;TZID=America/New_York:20260603T160000
DTSTAMP:20260422T063128
CREATED:20260205T160540Z
LAST-MODIFIED:20260413T174654Z
UID:5529-1780498800-1780502400@scmua.org
SUMMARY:Board of Commissioners Meeting
DESCRIPTION:Location: Administration Building – 34 South Route 94\, Lafayette\, NJ 07848
URL:https://scmua.org/event/board-of-commissioners-meeting-45/
CATEGORIES:Meetings
END:VEVENT
BEGIN:VEVENT
DTSTART;TZID=America/New_York:20260606T070000
DTEND;TZID=America/New_York:20260606T140000
DTSTAMP:20260422T063128
CREATED:20251218T184132Z
LAST-MODIFIED:20260413T174712Z
UID:5175-1780729200-1780754400@scmua.org
SUMMARY:Household Hazardous Waste event
DESCRIPTION:Safely dispose of hazardous materials. Limits 100 lbs. or 10 gallons. Additional quantities at $1.78/lb. County residents only. No businesses.
URL:https://scmua.org/event/household-hazardous-waste-event-5/
CATEGORIES:Event
END:VEVENT
BEGIN:VEVENT
DTSTART;TZID=America/New_York:20260617T150000
DTEND;TZID=America/New_York:20260617T160000
DTSTAMP:20260422T063128
CREATED:20260205T160655Z
LAST-MODIFIED:20260413T174702Z
UID:5531-1781708400-1781712000@scmua.org
SUMMARY:Board of Commissioners Meeting
DESCRIPTION:Location: Administration Building – 34 South Route 94\, Lafayette\, NJ 07848
URL:https://scmua.org/event/board-of-commissioners-meeting-46/
CATEGORIES:Meetings
END:VEVENT
BEGIN:VEVENT
DTSTART;TZID=America/New_York:20260619T090000
DTEND;TZID=America/New_York:20260619T120000
DTSTAMP:20260422T063128
CREATED:20251218T183147Z
LAST-MODIFIED:20251218T183148Z
UID:5161-1781859600-1781870400@scmua.org
SUMMARY:Paper Shred Event - 6/19/26
DESCRIPTION:SCMUA Shred 2026 flyer png
URL:https://scmua.org/event/paper-shred-event-6-19-26/
CATEGORIES:Event
END:VEVENT
BEGIN:VEVENT
DTSTART;TZID=America/New_York:20260701T150000
DTEND;TZID=America/New_York:20260701T160000
DTSTAMP:20260422T063128
CREATED:20260205T160751Z
LAST-MODIFIED:20260413T174731Z
UID:5533-1782918000-1782921600@scmua.org
SUMMARY:Board of Commissioners Meeting
DESCRIPTION:Location: Administration Building – 34 South Route 94\, Lafayette\, NJ 07848
URL:https://scmua.org/event/board-of-commissioners-meeting-47/
CATEGORIES:Meetings
END:VEVENT
BEGIN:VEVENT
DTSTART;TZID=America/New_York:20260703T070000
DTEND;TZID=America/New_York:20260703T140000
DTSTAMP:20260422T063128
CREATED:20260204T163054Z
LAST-MODIFIED:20260204T165749Z
UID:5467-1783062000-1783087200@scmua.org
SUMMARY:Independence Day (Observed)
DESCRIPTION:Solid Waste Facilities & Recycling Center – OPEN \n\n\n\n \n\n\n\nAdministration Building & Wastewater – CLOSED \n\n\n\nAll Facilities Closed on Saturday\, July 4\, 2026
URL:https://scmua.org/event/independence-day-observed/
END:VEVENT
BEGIN:VEVENT
DTSTART;TZID=America/New_York:20260704T070000
DTEND;TZID=America/New_York:20260704T140000
DTSTAMP:20260422T063128
CREATED:20260204T165224Z
LAST-MODIFIED:20260204T165225Z
UID:5497-1783148400-1783173600@scmua.org
SUMMARY:4TH OF JULY HOLIDAY - CLOSED
DESCRIPTION:All Facilities are CLOSED.
URL:https://scmua.org/event/4th-of-july-holiday-closed/
END:VEVENT
BEGIN:VEVENT
DTSTART;TZID=America/New_York:20260715T150000
DTEND;TZID=America/New_York:20260715T160000
DTSTAMP:20260422T063128
CREATED:20260205T160904Z
LAST-MODIFIED:20260413T175147Z
UID:5535-1784127600-1784131200@scmua.org
SUMMARY:Board of Commissioners Meeting
DESCRIPTION:
URL:https://scmua.org/event/board-of-commissioners-meeting-48/
CATEGORIES:Meetings
END:VEVENT
BEGIN:VEVENT
DTSTART;TZID=America/New_York:20260717T090000
DTEND;TZID=America/New_York:20260717T120000
DTSTAMP:20260422T063128
CREATED:20251218T183226Z
LAST-MODIFIED:20251218T183227Z
UID:5163-1784278800-1784289600@scmua.org
SUMMARY:Paper Shred Event - 7/17/26
DESCRIPTION:SCMUA Shred 2026 flyer png
URL:https://scmua.org/event/paper-shred-event-7-17-26/
CATEGORIES:Event
END:VEVENT
BEGIN:VEVENT
DTSTART;TZID=America/New_York:20260805T150000
DTEND;TZID=America/New_York:20260805T160000
DTSTAMP:20260422T063128
CREATED:20260205T161043Z
LAST-MODIFIED:20260413T175154Z
UID:5537-1785942000-1785945600@scmua.org
SUMMARY:Board of Commissioners Meeting
DESCRIPTION:Location: Administration Building – 34 South Route 94\, Lafayette\, NJ 07848
URL:https://scmua.org/event/board-of-commissioners-meeting-49/
CATEGORIES:Meetings
END:VEVENT
BEGIN:VEVENT
DTSTART;TZID=America/New_York:20260819T150000
DTEND;TZID=America/New_York:20260819T160000
DTSTAMP:20260422T063128
CREATED:20260205T161151Z
LAST-MODIFIED:20260413T175214Z
UID:5539-1787151600-1787155200@scmua.org
SUMMARY:Board of Commissioners Meeting
DESCRIPTION:Location: Administration Building – 34 South Route 94\, Lafayette\, NJ 07848
URL:https://scmua.org/event/board-of-commissioners-meeting-50/
CATEGORIES:Meetings
END:VEVENT
BEGIN:VEVENT
DTSTART;TZID=America/New_York:20260821T090000
DTEND;TZID=America/New_York:20260821T120000
DTSTAMP:20260422T063128
CREATED:20251218T183259Z
LAST-MODIFIED:20251218T183300Z
UID:5165-1787302800-1787313600@scmua.org
SUMMARY:Paper Shred Event - 8/21/26
DESCRIPTION:SCMUA Shred 2026 flyer png
URL:https://scmua.org/event/paper-shred-event-8-21-26/
CATEGORIES:Event
END:VEVENT
BEGIN:VEVENT
DTSTART;TZID=America/New_York:20260902T150000
DTEND;TZID=America/New_York:20260902T160000
DTSTAMP:20260422T063128
CREATED:20260205T161248Z
LAST-MODIFIED:20260413T175222Z
UID:5541-1788361200-1788364800@scmua.org
SUMMARY:Board of Commissioners Meeting
DESCRIPTION:Location: Administration Building – 34 South Route 94\, Lafayette\, NJ 07848
URL:https://scmua.org/event/board-of-commissioners-meeting-51/
CATEGORIES:Meetings
END:VEVENT
BEGIN:VEVENT
DTSTART;TZID=America/New_York:20260907T070000
DTEND;TZID=America/New_York:20260907T140000
DTSTAMP:20260422T063128
CREATED:20260204T163745Z
LAST-MODIFIED:20260413T175232Z
UID:5474-1788764400-1788789600@scmua.org
SUMMARY:Labor Day - CLOSED
DESCRIPTION:All Facilities are Closed for the Labor Day Holiday
URL:https://scmua.org/event/labor-day/
CATEGORIES:Facilities Closed
END:VEVENT
BEGIN:VEVENT
DTSTART;TZID=America/New_York:20260916T150000
DTEND;TZID=America/New_York:20260916T160000
DTSTAMP:20260422T063128
CREATED:20260205T161403Z
LAST-MODIFIED:20260413T175238Z
UID:5543-1789570800-1789574400@scmua.org
SUMMARY:Board of Commissioners Meeting
DESCRIPTION:Location: Administration Building – 34 South Route 94\, Lafayette\, NJ 07848
URL:https://scmua.org/event/board-of-commissioners-meeting-52/
CATEGORIES:Meetings
END:VEVENT
BEGIN:VEVENT
DTSTART;TZID=America/New_York:20260918T090000
DTEND;TZID=America/New_York:20260918T120000
DTSTAMP:20260422T063128
CREATED:20251218T183404Z
LAST-MODIFIED:20251218T183406Z
UID:5167-1789722000-1789732800@scmua.org
SUMMARY:Paper Shred Event - 9/18/26
DESCRIPTION:SCMUA Shred 2026 flyer png
URL:https://scmua.org/event/paper-shred-event-9-18-26/
CATEGORIES:Event
END:VEVENT
BEGIN:VEVENT
DTSTART;TZID=America/New_York:20261003T090000
DTEND;TZID=America/New_York:20261003T140000
DTSTAMP:20260422T063128
CREATED:20251218T200041Z
LAST-MODIFIED:20260413T175356Z
UID:5185-1791018000-1791036000@scmua.org
SUMMARY:Fall Electronics Event
DESCRIPTION:Electronics waste collection event. All electronics are recycled for free! No quantity limit.
URL:https://scmua.org/event/fall-electronics-event/
CATEGORIES:Event
END:VEVENT
BEGIN:VEVENT
DTSTART;TZID=America/New_York:20261007T150000
DTEND;TZID=America/New_York:20261007T160000
DTSTAMP:20260422T063128
CREATED:20260205T161459Z
LAST-MODIFIED:20260413T175403Z
UID:5545-1791385200-1791388800@scmua.org
SUMMARY:Board of Commissioners Meeting
DESCRIPTION:Location: Administration Building – 34 South Route 94\, Lafayette\, NJ 07848
URL:https://scmua.org/event/board-of-commissioners-meeting-53/
CATEGORIES:Meetings
END:VEVENT
BEGIN:VEVENT
DTSTART;TZID=America/New_York:20261012T070000
DTEND;TZID=America/New_York:20261012T140000
DTSTAMP:20260422T063128
CREATED:20260204T163929Z
LAST-MODIFIED:20260413T175413Z
UID:5476-1791788400-1791813600@scmua.org
SUMMARY:Columbus Day/Indigenous Peoples' Day - CLOSED
DESCRIPTION:All Facilities are CLOSED for the Holiday.
URL:https://scmua.org/event/columbus-day-indigenous-peoples-day/
CATEGORIES:Facilities Closed
END:VEVENT
BEGIN:VEVENT
DTSTART;TZID=America/New_York:20261016T090000
DTEND;TZID=America/New_York:20261016T120000
DTSTAMP:20260422T063128
CREATED:20251218T183445Z
LAST-MODIFIED:20251218T183446Z
UID:5169-1792141200-1792152000@scmua.org
SUMMARY:Paper Shred Event - 10/16/26
DESCRIPTION:SCMUA Shred 2026 flyer png
URL:https://scmua.org/event/paper-shred-event-10-16-26/
CATEGORIES:Event
END:VEVENT
BEGIN:VEVENT
DTSTART;TZID=America/New_York:20261021T150000
DTEND;TZID=America/New_York:20261021T160000
DTSTAMP:20260422T063128
CREATED:20260205T161557Z
LAST-MODIFIED:20260413T175419Z
UID:5547-1792594800-1792598400@scmua.org
SUMMARY:Board of Commissioners Meeting
DESCRIPTION:Location: Administration Building – 34 South Route 94\, Lafayette\, NJ 07848
URL:https://scmua.org/event/board-of-commissioners-meeting-54/
CATEGORIES:Meetings
END:VEVENT
BEGIN:VEVENT
DTSTART;TZID=America/New_York:20261104T150000
DTEND;TZID=America/New_York:20261104T160000
DTSTAMP:20260422T063128
CREATED:20260205T161705Z
LAST-MODIFIED:20260413T175424Z
UID:5549-1793804400-1793808000@scmua.org
SUMMARY:Board of Commissioners Meeting
DESCRIPTION:Location: Administration Building – 34 South Route 94\, Lafayette\, NJ 07848
URL:https://scmua.org/event/board-of-commissioners-meeting-55/
CATEGORIES:Meetings
END:VEVENT
BEGIN:VEVENT
DTSTART;TZID=America/New_York:20261107T070000
DTEND;TZID=America/New_York:20261107T140000
DTSTAMP:20260422T063128
CREATED:20251218T184421Z
LAST-MODIFIED:20260413T175430Z
UID:5178-1794034800-1794060000@scmua.org
SUMMARY:Household Hazardous Waste event
DESCRIPTION:Safely dispose of hazardous materials. Limits 100 lbs. or 10 gallons. Additional quantities at $1.78/lb. County residents only. No businesses.
URL:https://scmua.org/event/household-hazardous-waste-event-6/
CATEGORIES:Event
END:VEVENT
BEGIN:VEVENT
DTSTART;TZID=America/New_York:20261111T070000
DTEND;TZID=America/New_York:20261111T140000
DTSTAMP:20260422T063128
CREATED:20260204T164120Z
LAST-MODIFIED:20260413T175436Z
UID:5479-1794380400-1794405600@scmua.org
SUMMARY:Veterans' Day - CLOSED
DESCRIPTION:All Facilities are CLOSED.
URL:https://scmua.org/event/veterans-day/
CATEGORIES:Facilities Closed
END:VEVENT
BEGIN:VEVENT
DTSTART;TZID=America/New_York:20261120T090000
DTEND;TZID=America/New_York:20261120T120000
DTSTAMP:20260422T063128
CREATED:20251218T183528Z
LAST-MODIFIED:20251218T183530Z
UID:5171-1795165200-1795176000@scmua.org
SUMMARY:Paper Shred Event - 11/20/26
DESCRIPTION:SCMUA Shred 2026 flyer png
URL:https://scmua.org/event/paper-shred-event-11-20-26/
CATEGORIES:Event
END:VEVENT
BEGIN:VEVENT
DTSTART;TZID=America/New_York:20261125T150000
DTEND;TZID=America/New_York:20261125T160000
DTSTAMP:20260422T063128
CREATED:20260205T161808Z
LAST-MODIFIED:20260413T175443Z
UID:5551-1795618800-1795622400@scmua.org
SUMMARY:Board of Commissioners Meeting
DESCRIPTION:Location: Administration Building – 34 South Route 94\, Lafayette\, NJ 07848
URL:https://scmua.org/event/board-of-commissioners-meeting-56/
CATEGORIES:Meetings
END:VEVENT
BEGIN:VEVENT
DTSTART;TZID=America/New_York:20261126T070000
DTEND;TZID=America/New_York:20261126T140000
DTSTAMP:20260422T063128
CREATED:20260204T164228Z
LAST-MODIFIED:20260413T175449Z
UID:5481-1795676400-1795701600@scmua.org
SUMMARY:Thanksgiving Day - CLOSED
DESCRIPTION:All Facilities are CLOSED.
URL:https://scmua.org/event/thanksgiving-day/
CATEGORIES:Facilities Closed
END:VEVENT
BEGIN:VEVENT
DTSTART;TZID=America/New_York:20261127T070000
DTEND;TZID=America/New_York:20261127T140000
DTSTAMP:20260422T063128
CREATED:20260204T164353Z
LAST-MODIFIED:20260204T165542Z
UID:5483-1795762800-1795788000@scmua.org
SUMMARY:Day after Thanksgiving
DESCRIPTION:Solid Waste Facility & Recycling Facility – OPEN \n\n\n\n \n\n\n\nAdministration Bldg. & Wastewater Plants – CLOSED
URL:https://scmua.org/event/day-after-thanksgiving/
END:VEVENT
BEGIN:VEVENT
DTSTART;TZID=America/New_York:20261216T150000
DTEND;TZID=America/New_York:20261216T160000
DTSTAMP:20260422T063128
CREATED:20260205T161914Z
LAST-MODIFIED:20260413T175456Z
UID:5553-1797433200-1797436800@scmua.org
SUMMARY:Board of Commissioners Meeting
DESCRIPTION:Location: Administration Building – 34 South Route 94\, Lafayette\, NJ 07848
URL:https://scmua.org/event/board-of-commissioners-meeting-57/
CATEGORIES:Meetings
END:VEVENT
BEGIN:VEVENT
DTSTART;TZID=America/New_York:20261218T090000
DTEND;TZID=America/New_York:20261218T120000
DTSTAMP:20260422T063128
CREATED:20251218T183612Z
LAST-MODIFIED:20251218T183613Z
UID:5173-1797584400-1797595200@scmua.org
SUMMARY:Paper Shred Event - 12/18/26
DESCRIPTION:SCMUA Shred 2026 flyer png
URL:https://scmua.org/event/paper-shred-event-12-18-26/
CATEGORIES:Event
END:VEVENT
END:VCALENDAR