BEGIN:VCALENDAR
VERSION:2.0
PRODID:-//SCMUA - ECPv6.15.20//NONSGML v1.0//EN
CALSCALE:GREGORIAN
METHOD:PUBLISH
X-ORIGINAL-URL:https://scmua.org
X-WR-CALDESC:Events for SCMUA
REFRESH-INTERVAL;VALUE=DURATION:PT1H
X-Robots-Tag:noindex
X-PUBLISHED-TTL:PT1H
BEGIN:VTIMEZONE
TZID:America/New_York
BEGIN:DAYLIGHT
TZOFFSETFROM:-0500
TZOFFSETTO:-0400
TZNAME:EDT
DTSTART:20240310T070000
END:DAYLIGHT
BEGIN:STANDARD
TZOFFSETFROM:-0400
TZOFFSETTO:-0500
TZNAME:EST
DTSTART:20241103T060000
END:STANDARD
BEGIN:DAYLIGHT
TZOFFSETFROM:-0500
TZOFFSETTO:-0400
TZNAME:EDT
DTSTART:20250309T070000
END:DAYLIGHT
BEGIN:STANDARD
TZOFFSETFROM:-0400
TZOFFSETTO:-0500
TZNAME:EST
DTSTART:20251102T060000
END:STANDARD
BEGIN:DAYLIGHT
TZOFFSETFROM:-0500
TZOFFSETTO:-0400
TZNAME:EDT
DTSTART:20260308T070000
END:DAYLIGHT
BEGIN:STANDARD
TZOFFSETFROM:-0400
TZOFFSETTO:-0500
TZNAME:EST
DTSTART:20261101T060000
END:STANDARD
BEGIN:DAYLIGHT
TZOFFSETFROM:-0500
TZOFFSETTO:-0400
TZNAME:EDT
DTSTART:20270314T070000
END:DAYLIGHT
BEGIN:STANDARD
TZOFFSETFROM:-0400
TZOFFSETTO:-0500
TZNAME:EST
DTSTART:20271107T060000
END:STANDARD
END:VTIMEZONE
BEGIN:VEVENT
DTSTART;TZID=America/New_York:20251219T090000
DTEND;TZID=America/New_York:20251219T120000
DTSTAMP:20260424T073846
CREATED:20241217T141944Z
LAST-MODIFIED:20250107T162459Z
UID:3751-1766134800-1766145600@scmua.org
SUMMARY:Paper Shred Event - 12/19/25
DESCRIPTION:SCMUA Shred 2025 flyer pdf
URL:https://scmua.org/event/paper-shred-event-12-19-25/
CATEGORIES:Event
END:VEVENT
BEGIN:VEVENT
DTSTART;TZID=America/New_York:20251225T000000
DTEND;TZID=America/New_York:20251225T235959
DTSTAMP:20260424T073846
CREATED:20250113T201739Z
LAST-MODIFIED:20250113T201740Z
UID:3938-1766620800-1766707199@scmua.org
SUMMARY:Christmas Day - CLOSED
DESCRIPTION:Thursday\, December 25th\, 2025 – All Facilities are CLOSED for Christmas Day
URL:https://scmua.org/event/christmas-day-closed/
END:VEVENT
BEGIN:VEVENT
DTSTART;TZID=America/New_York:20260101T000000
DTEND;TZID=America/New_York:20260101T235959
DTSTAMP:20260424T073846
CREATED:20250113T201844Z
LAST-MODIFIED:20250113T201845Z
UID:3940-1767225600-1767311999@scmua.org
SUMMARY:New Year's Day - CLOSED
DESCRIPTION:Thursday\, January 1st\, 2026 – All Facilities are CLOSED for New Year’s Day
URL:https://scmua.org/event/new-years-day-closed/
END:VEVENT
BEGIN:VEVENT
DTSTART;TZID=America/New_York:20260107T150000
DTEND;TZID=America/New_York:20260107T160000
DTSTAMP:20260424T073846
CREATED:20250211T165319Z
LAST-MODIFIED:20251229T164853Z
UID:4108-1767798000-1767801600@scmua.org
SUMMARY:Board of Commissioners Meeting
DESCRIPTION:
URL:https://scmua.org/event/board-of-commissioners-meeting-34/
END:VEVENT
BEGIN:VEVENT
DTSTART;TZID=America/New_York:20260116T090000
DTEND;TZID=America/New_York:20260116T120000
DTSTAMP:20260424T073846
CREATED:20251218T182304Z
LAST-MODIFIED:20251218T182306Z
UID:5147-1768554000-1768564800@scmua.org
SUMMARY:Paper Shred Event - 1/16/26
DESCRIPTION:SCMUA Shred 2026 flyer png
URL:https://scmua.org/event/paper-shred-event-1-16-26/
CATEGORIES:Event
END:VEVENT
BEGIN:VEVENT
DTSTART;TZID=America/New_York:20260121T150000
DTEND;TZID=America/New_York:20260121T160000
DTSTAMP:20260424T073846
CREATED:20250211T165400Z
LAST-MODIFIED:20250211T165401Z
UID:4110-1769007600-1769011200@scmua.org
SUMMARY:Board of Commissioners Meeting
DESCRIPTION:
URL:https://scmua.org/event/board-of-commissioners-meeting-35/
END:VEVENT
BEGIN:VEVENT
DTSTART;TZID=America/New_York:20260204T150000
DTEND;TZID=America/New_York:20260204T160000
DTSTAMP:20260424T073846
CREATED:20250211T165453Z
LAST-MODIFIED:20260127T180534Z
UID:4112-1770217200-1770220800@scmua.org
SUMMARY:Board of Commissioners' Annual Reorganization Meeting
DESCRIPTION:
URL:https://scmua.org/event/board-of-commissioners-meeting-36/
END:VEVENT
BEGIN:VEVENT
DTSTART;TZID=America/New_York:20260216T070000
DTEND;TZID=America/New_York:20260216T140000
DTSTAMP:20260424T073846
CREATED:20260204T161321Z
LAST-MODIFIED:20260204T165406Z
UID:5457-1771225200-1771250400@scmua.org
SUMMARY:Presidents' Day - CLOSED
DESCRIPTION:All Facilities are Closed
URL:https://scmua.org/event/presidents-day-2/
END:VEVENT
BEGIN:VEVENT
DTSTART;TZID=America/New_York:20260218T150000
DTEND;TZID=America/New_York:20260218T160000
DTSTAMP:20260424T073846
CREATED:20260205T155728Z
LAST-MODIFIED:20260205T155731Z
UID:5514-1771426800-1771430400@scmua.org
SUMMARY:Board of Commissioner Meeting
DESCRIPTION:Location: Administration Building  – 34 South Route 94\, Lafayette\, NJ 07848
URL:https://scmua.org/event/board-of-commissioner-meeting-4/
END:VEVENT
BEGIN:VEVENT
DTSTART;TZID=America/New_York:20260220T090000
DTEND;TZID=America/New_York:20260220T120000
DTSTAMP:20260424T073846
CREATED:20251218T182604Z
LAST-MODIFIED:20251218T182604Z
UID:5152-1771578000-1771588800@scmua.org
SUMMARY:Paper Shred Event - 2/20/26
DESCRIPTION:SCMUA Shred 2026 flyer png
URL:https://scmua.org/event/paper-shred-event-2-20-26/
CATEGORIES:Event
END:VEVENT
BEGIN:VEVENT
DTSTART;TZID=America/New_York:20260304T150000
DTEND;TZID=America/New_York:20260304T160000
DTSTAMP:20260424T073846
CREATED:20260205T155903Z
LAST-MODIFIED:20260205T155904Z
UID:5516-1772636400-1772640000@scmua.org
SUMMARY:Board of Commissioners Meeting
DESCRIPTION:Location: Administration Building  – 34 South Route 94\, Lafayette\, NJ 07848
URL:https://scmua.org/event/board-of-commissioners-meeting-39/
END:VEVENT
BEGIN:VEVENT
DTSTART;TZID=America/New_York:20260318T150000
DTEND;TZID=America/New_York:20260318T160000
DTSTAMP:20260424T073846
CREATED:20260205T160037Z
LAST-MODIFIED:20260205T160038Z
UID:5518-1773846000-1773849600@scmua.org
SUMMARY:Board of Commissioners Meeting
DESCRIPTION:Location: Administration Building  – 34 South Route 94\, Lafayette\, NJ 07848
URL:https://scmua.org/event/board-of-commissioners-meeting-40/
END:VEVENT
BEGIN:VEVENT
DTSTART;TZID=America/New_York:20260320T090000
DTEND;TZID=America/New_York:20260320T120000
DTSTAMP:20260424T073846
CREATED:20251218T182600Z
LAST-MODIFIED:20251218T182821Z
UID:5154-1773997200-1774008000@scmua.org
SUMMARY:Paper Shred Event - 3/20/26
DESCRIPTION:SCMUA Shred 2026 flyer png
URL:https://scmua.org/event/paper-shred-event-3-20-26/
CATEGORIES:Event
END:VEVENT
BEGIN:VEVENT
DTSTART;TZID=America/New_York:20260401T150000
DTEND;TZID=America/New_York:20260401T160000
DTSTAMP:20260424T073846
CREATED:20260205T160139Z
LAST-MODIFIED:20260205T160141Z
UID:5520-1775055600-1775059200@scmua.org
SUMMARY:Board of Commissioners Meeting
DESCRIPTION:Location: Administration Building  – 34 South Route 94\, Lafayette\, NJ 07848
URL:https://scmua.org/event/board-of-commissioners-meeting-41/
END:VEVENT
BEGIN:VEVENT
DTSTART;TZID=America/New_York:20260403T070000
DTEND;TZID=America/New_York:20260403T140000
DTSTAMP:20260424T073846
CREATED:20260204T162132Z
LAST-MODIFIED:20260327T125854Z
UID:5462-1775199600-1775224800@scmua.org
SUMMARY:Good Friday (SolidWaste & Recycling Open)
DESCRIPTION:Solid Waste Facility & Recycling Facility – OPEN 7am – 2pm \n\n\n\n \n\n\n\nAdministration Building & Wastewater Plant – CLOSED
URL:https://scmua.org/event/good-friday/
END:VEVENT
BEGIN:VEVENT
DTSTART;TZID=America/New_York:20260415T150000
DTEND;TZID=America/New_York:20260415T160000
DTSTAMP:20260424T073846
CREATED:20260205T160236Z
LAST-MODIFIED:20260413T174543Z
UID:5522-1776265200-1776268800@scmua.org
SUMMARY:Board of Commissioners Meeting
DESCRIPTION:Location: Administration Building  – 34 South Route 94\, Lafayette\, NJ 07848
URL:https://scmua.org/event/board-of-commissioners-meeting-42/
CATEGORIES:Meetings
END:VEVENT
BEGIN:VEVENT
DTSTART;TZID=America/New_York:20260417T090000
DTEND;TZID=America/New_York:20260417T120000
DTSTAMP:20260424T073846
CREATED:20251218T183109Z
LAST-MODIFIED:20251218T183110Z
UID:5159-1776416400-1776427200@scmua.org
SUMMARY:Paper Shred Event - 4/17/26
DESCRIPTION:SCMUA Shred 2026 flyer png
URL:https://scmua.org/event/paper-shred-event-4-17-26-2/
CATEGORIES:Event
END:VEVENT
BEGIN:VEVENT
DTSTART;TZID=America/New_York:20260418T090000
DTEND;TZID=America/New_York:20260418T140000
DTSTAMP:20260424T073846
CREATED:20251218T195244Z
LAST-MODIFIED:20260413T174725Z
UID:5182-1776502800-1776520800@scmua.org
SUMMARY:Spring Electronics Event
DESCRIPTION:Electronics waste collection event. All electronics are recycled for free! No quantity limit.
URL:https://scmua.org/event/spring-electronics-event-2/
CATEGORIES:Event
END:VEVENT
BEGIN:VEVENT
DTSTART;TZID=America/New_York:20260506T150000
DTEND;TZID=America/New_York:20260506T160000
DTSTAMP:20260424T073846
CREATED:20260205T160334Z
LAST-MODIFIED:20260413T174643Z
UID:5524-1778079600-1778083200@scmua.org
SUMMARY:Board of Commissioners Meeting
DESCRIPTION:Location: Administration Building – 34 South Route 94\, Lafayette\, NJ 07848
URL:https://scmua.org/event/board-of-commissioners-meeting-43/
CATEGORIES:Meetings
END:VEVENT
BEGIN:VEVENT
DTSTART;TZID=America/New_York:20260515T090000
DTEND;TZID=America/New_York:20260515T120000
DTSTAMP:20260424T073846
CREATED:20251218T182926Z
LAST-MODIFIED:20260423T145057Z
UID:5156-1778835600-1778846400@scmua.org
SUMMARY:Paper Shred Event - 5/15/26
DESCRIPTION:SCMUA Shred 2026 flyer a ppt
URL:https://scmua.org/event/paper-shred-event-4-17-26/
CATEGORIES:Event
END:VEVENT
BEGIN:VEVENT
DTSTART;TZID=America/New_York:20260520T150000
DTEND;TZID=America/New_York:20260520T160000
DTSTAMP:20260424T073846
CREATED:20260205T160420Z
LAST-MODIFIED:20260413T174635Z
UID:5526-1779289200-1779292800@scmua.org
SUMMARY:Board of Commissioners Meeting
DESCRIPTION:Location: Administration Building – 34 South Route 94\, Lafayette\, NJ 07848
URL:https://scmua.org/event/board-of-commissioners-meeting-44/
CATEGORIES:Meetings
END:VEVENT
BEGIN:VEVENT
DTSTART;TZID=America/New_York:20260525T070000
DTEND;TZID=America/New_York:20260525T140000
DTSTAMP:20260424T073846
CREATED:20260204T162246Z
LAST-MODIFIED:20260413T174718Z
UID:5465-1779692400-1779717600@scmua.org
SUMMARY:Memorial Day - CLOSED
DESCRIPTION:All Facilities Closed
URL:https://scmua.org/event/memorial-day/
CATEGORIES:Facilities Closed
END:VEVENT
BEGIN:VEVENT
DTSTART;TZID=America/New_York:20260603T150000
DTEND;TZID=America/New_York:20260603T160000
DTSTAMP:20260424T073846
CREATED:20260205T160540Z
LAST-MODIFIED:20260413T174654Z
UID:5529-1780498800-1780502400@scmua.org
SUMMARY:Board of Commissioners Meeting
DESCRIPTION:Location: Administration Building – 34 South Route 94\, Lafayette\, NJ 07848
URL:https://scmua.org/event/board-of-commissioners-meeting-45/
CATEGORIES:Meetings
END:VEVENT
BEGIN:VEVENT
DTSTART;TZID=America/New_York:20260606T070000
DTEND;TZID=America/New_York:20260606T140000
DTSTAMP:20260424T073846
CREATED:20251218T184132Z
LAST-MODIFIED:20260413T174712Z
UID:5175-1780729200-1780754400@scmua.org
SUMMARY:Household Hazardous Waste event
DESCRIPTION:Safely dispose of hazardous materials. Limits 100 lbs. or 10 gallons. Additional quantities at $1.78/lb. County residents only. No businesses.
URL:https://scmua.org/event/household-hazardous-waste-event-5/
CATEGORIES:Event
END:VEVENT
BEGIN:VEVENT
DTSTART;TZID=America/New_York:20260617T150000
DTEND;TZID=America/New_York:20260617T160000
DTSTAMP:20260424T073846
CREATED:20260205T160655Z
LAST-MODIFIED:20260413T174702Z
UID:5531-1781708400-1781712000@scmua.org
SUMMARY:Board of Commissioners Meeting
DESCRIPTION:Location: Administration Building – 34 South Route 94\, Lafayette\, NJ 07848
URL:https://scmua.org/event/board-of-commissioners-meeting-46/
CATEGORIES:Meetings
END:VEVENT
BEGIN:VEVENT
DTSTART;TZID=America/New_York:20260619T090000
DTEND;TZID=America/New_York:20260619T120000
DTSTAMP:20260424T073846
CREATED:20251218T183147Z
LAST-MODIFIED:20260423T145016Z
UID:5161-1781859600-1781870400@scmua.org
SUMMARY:Paper Shred Event - 6/19/26
DESCRIPTION:SCMUA Shred 2026 flyer a ppt
URL:https://scmua.org/event/paper-shred-event-6-19-26/
CATEGORIES:Event
END:VEVENT
BEGIN:VEVENT
DTSTART;TZID=America/New_York:20260701T150000
DTEND;TZID=America/New_York:20260701T160000
DTSTAMP:20260424T073846
CREATED:20260205T160751Z
LAST-MODIFIED:20260413T174731Z
UID:5533-1782918000-1782921600@scmua.org
SUMMARY:Board of Commissioners Meeting
DESCRIPTION:Location: Administration Building – 34 South Route 94\, Lafayette\, NJ 07848
URL:https://scmua.org/event/board-of-commissioners-meeting-47/
CATEGORIES:Meetings
END:VEVENT
BEGIN:VEVENT
DTSTART;TZID=America/New_York:20260703T070000
DTEND;TZID=America/New_York:20260703T140000
DTSTAMP:20260424T073846
CREATED:20260204T163054Z
LAST-MODIFIED:20260204T165749Z
UID:5467-1783062000-1783087200@scmua.org
SUMMARY:Independence Day (Observed)
DESCRIPTION:Solid Waste Facilities & Recycling Center – OPEN \n\n\n\n \n\n\n\nAdministration Building & Wastewater – CLOSED \n\n\n\nAll Facilities Closed on Saturday\, July 4\, 2026
URL:https://scmua.org/event/independence-day-observed/
END:VEVENT
BEGIN:VEVENT
DTSTART;TZID=America/New_York:20260704T070000
DTEND;TZID=America/New_York:20260704T140000
DTSTAMP:20260424T073846
CREATED:20260204T165224Z
LAST-MODIFIED:20260204T165225Z
UID:5497-1783148400-1783173600@scmua.org
SUMMARY:4TH OF JULY HOLIDAY - CLOSED
DESCRIPTION:All Facilities are CLOSED.
URL:https://scmua.org/event/4th-of-july-holiday-closed/
END:VEVENT
BEGIN:VEVENT
DTSTART;TZID=America/New_York:20260715T150000
DTEND;TZID=America/New_York:20260715T160000
DTSTAMP:20260424T073846
CREATED:20260205T160904Z
LAST-MODIFIED:20260413T175147Z
UID:5535-1784127600-1784131200@scmua.org
SUMMARY:Board of Commissioners Meeting
DESCRIPTION:
URL:https://scmua.org/event/board-of-commissioners-meeting-48/
CATEGORIES:Meetings
END:VEVENT
END:VCALENDAR